View In:
ArcGIS JavaScript
ArcGIS Online Map Viewer
ArcGIS Earth
ArcGIS Pro
Service Description: <div style='text-align:Left;font-size:12pt'><div><div><p><span>Major High Tide Flooding Inundation Extent</span></p><p><span /></p><p><span>This dataset depicts the inundation extent of major high tide flooding, which is defined in the NOAA Technical Report NOS CO-OPS 086: Patterns and Projections of High Tide Flooding Along the U.S. Coastline Using a Common Impact Threshold. This threshold provides a national definition of coastal flooding and impacts for quantifying and communicating risk. It may deviate from NOAA National Weather Service (NWS) impact thresholds that take into account local flood risk and are used to issue NWS coastal flood watches, warnings, and advisories.</span></p><p><span /><span /></p><p><span>NOAA Technical Report NOS CO-OPS 086: </span><a href='https://www.tidesandcurrents.noaa.gov/publications/techrpt86_PaP_of_HTFlooding.pdf' style='text-decoration:underline;'><span style='text-decoration:underline;'><span>https://www.tidesandcurrents.noaa.gov/publications/techrpt86_PaP_of_HTFlooding.pdf</span></span></a></p><p><p><span><span>The data and maps in this tool illustrate the scale of potential flooding, not the exact location, and do not account for erosion, subsidence, or future construction. The data and information provided should be used only as a screening-level tool for management decisions. As with all remotely sensed data, all features should be verified with a site visit. The data and maps in this tool are provided “as is,” without warranty to their performance, merchantable state, or fitness for any particular purpose. The entire risk associated with the results and performance of these data is assumed by the user. This tool should be used strictly as a planning reference tool and not for navigation, permitting, or other legal purposes.</span></span></p><p><span /><span /></p><p><span><span>Tiles have been cached down to Level ID 16 (1:9027).</span></span></p></div></div></div></p>
Map Name: NOS_Major
Legend
All Layers and Tables
Dynamic Legend
Dynamic All Layers
Layers:
Description: Major High Tide Flooding Inundation ExtentThis dataset depicts the inundation extent of major high tide flooding, which is defined in the NOAA Technical Report NOS CO-OPS 086: Patterns and Projections of High Tide Flooding Along the U.S. Coastline Using a Common Impact Threshold. This threshold provides a national definition of coastal flooding and impacts for quantifying and communicating risk. It may deviate from NOAA National Weather Service (NWS) impact thresholds that take into account local flood risk and are used to issue NWS coastal flood watches, warnings, and advisories.NOAA Technical Report NOS CO-OPS 086: https://www.tidesandcurrents.noaa.gov/publications/techrpt86_PaP_of_HTFlooding.pdfThe data and maps in this tool illustrate the scale of potential flooding, not the exact location, and do not account for erosion, subsidence, or future construction. The data and information provided should be used only as a screening-level tool for management decisions. As with all remotely sensed data, all features should be verified with a site visit. The data and maps in this tool are provided “as is,” without warranty to their performance, merchantable state, or fitness for any particular purpose. The entire risk associated with the results and performance of these data is assumed by the user. This tool should be used strictly as a planning reference tool and not for navigation, permitting, or other legal purposes.Tiles have been cached down to Level ID 16 (1:9027).
Service Item Id: cb25afff1ce14c688bd5f7e99fcf4235
Copyright Text: NOAA Office for Coastal Management
Spatial Reference:
102100
(3857)
LatestVCSWkid(0)
Single Fused Map Cache: true
Tile Info:
- Height: 256.0
- Width: 256.0
- DPI: 96.0
-
Levels of Detail: 24
-
Level ID: 1
[ Start Tile, End Tile ]
- Resolution: 78271.5169639999
- Scale: 2.95828763795777E8
-
Level ID: 2
[ Start Tile, End Tile ]
- Resolution: 39135.7584820001
- Scale: 1.47914381897889E8
-
Level ID: 3
[ Start Tile, End Tile ]
- Resolution: 19567.8792409999
- Scale: 7.3957190948944E7
-
Level ID: 4
[ Start Tile, End Tile ]
- Resolution: 9783.93962049996
- Scale: 3.6978595474472E7
-
Level ID: 5
[ Start Tile, End Tile ]
- Resolution: 4891.96981024998
- Scale: 1.8489297737236E7
- Format: PNG8
- Compression Quality: 0.0
- Origin: X: -2.0037508342787E7
Y: 2.0037508342787E7
- Spatial Reference: 102100
(3857)
LatestVCSWkid(0)
Storage Info:
- Storage Format: esriMapCacheStorageModeCompactV2
- Packet Size: 128
Initial Extent:
XMin: -2.0800667695295334E7
YMin: -5623409.6384404255
XMax: 1.801531502479533E7
YMax: 1.458107931504042E7
Spatial Reference: 102100
(0)
LatestVCSWkid(0)
Full Extent:
XMin: -2.0800667695295334E7
YMin: -5623409.6384404255
XMax: 1.801531502479533E7
YMax: 1.458107931504042E7
Spatial Reference: 102100
(0)
LatestVCSWkid(0)
Units: esriMeters
Supported Image Format Types: PNG32,PNG24,PNG,JPG,DIB,TIFF,EMF,PS,PDF,GIF,SVG,SVGZ,BMP
Document Info:
Title: Major High Tide Flooding Inundation Extent
Author:
Comments: Major High Tide Flooding Inundation ExtentThis dataset depicts the inundation extent of major high tide flooding, which is defined in the NOAA Technical Report NOS CO-OPS 086: Patterns and Projections of High Tide Flooding Along the U.S. Coastline Using a Common Impact Threshold. This threshold provides a national definition of coastal flooding and impacts for quantifying and communicating risk. It may deviate from NOAA National Weather Service (NWS) impact thresholds that take into account local flood risk and are used to issue NWS coastal flood watches, warnings, and advisories.NOAA Technical Report NOS CO-OPS 086: https://www.tidesandcurrents.noaa.gov/publications/techrpt86_PaP_of_HTFlooding.pdfThe data and maps in this tool illustrate the scale of potential flooding, not the exact location, and do not account for erosion, subsidence, or future construction. The data and information provided should be used only as a screening-level tool for management decisions. As with all remotely sensed data, all features should be verified with a site visit. The data and maps in this tool are provided “as is,” without warranty to their performance, merchantable state, or fitness for any particular purpose. The entire risk associated with the results and performance of these data is assumed by the user. This tool should be used strictly as a planning reference tool and not for navigation, permitting, or other legal purposes.Tiles have been cached down to Level ID 16 (1:9027).
Subject:
Category:
Keywords:
AntialiasingMode: None
TextAntialiasingMode: None
Supports Dynamic Layers: true
MaxRecordCount: 2000
MaxSelectionCount: 2000
MaxImageHeight: 4096
MaxImageWidth: 4096
Supported Query Formats: JSON, geoJSON, PBF
Supports Query Data Elements: true
Min Scale: 5.91657527591555E8
Max Scale: 4513.988705
Supports Datum Transformation: true
Child Resources:
Info
Dynamic Layer
Supported Operations:
Export Map
Identify
QueryLegends
QueryDomains
Find
Return Updates