View In:
ArcGIS JavaScript
ArcGIS Online Map Viewer
ArcGIS Earth
ArcGIS Pro
Service Description:
Map Name: CoastalZoneManagementAct
Legend
All Layers and Tables
Layers:
Description: These data represent the extent of the nation's coastal zone, as defined by the individual states and territories under the Coastal Zone Management Act of 1972 (CZMA). The CZMA was established to preserve, protect, develop, and where possible, to restore or enhance the resources of the nation's coastal zone. The zone generally extends seaward to the boundary of the Submerged Lands Act. The zone extends inland from the shorelines only to the extent necessary to control shorelands that have a direct and significant impact on coastal waters. Lands held in trust by the Federal Government have been included in this boundary unless otherwise noted, as accurately representing these could be erroneous. State jurisdiction extends to 3nm, except for Texas, Puerto Rico and Florida’s Gulf coast extends to 9nm. Great Lakes states have jurisdiction to the international boundary with Canada. CZMA applies in EEZ through federal consistency. This boundary is unofficial. For precise regulatory boundaries, please contact the state or territorial coastal program office.
Service Item Id: 907edcb89d734f0db445ddd62023cb3e
Copyright Text:
Spatial Reference:
102100
(3857)
Single Fused Map Cache: true
Tile Info:
- Height: 256
- Width: 256
- DPI: 96
-
Levels of Detail: 23
-
Level ID: 1
[ Start Tile, End Tile ]
- Resolution: 78271.5169639999
- Scale: 2.95828763795777E8
-
Level ID: 2
[ Start Tile, End Tile ]
- Resolution: 39135.7584820001
- Scale: 1.47914381897889E8
-
Level ID: 3
[ Start Tile, End Tile ]
- Resolution: 19567.8792409999
- Scale: 7.3957190948944E7
-
Level ID: 4
[ Start Tile, End Tile ]
- Resolution: 9783.93962049996
- Scale: 3.6978595474472E7
-
Level ID: 5
[ Start Tile, End Tile ]
- Resolution: 4891.96981024998
- Scale: 1.8489297737236E7
- Format: PNG32
- Compression Quality: 0.0
- Origin: X: -2.0037508342787E7
Y: 2.0037508342787E7
- Spatial Reference: 102100
(3857)
Storage Info:
- Storage Format: esriMapCacheStorageModeCompactV2
- Packet Size: 128
Initial Extent:
XMin: -1.5690559095067855E7
YMin: 397527.46568038873
XMax: -5794104.168932144
YMax: 7622966.87541961
Spatial Reference: 102100
(3857)
Full Extent:
XMin: -2.00375070672E7
YMin: 1480925.4968000017
XMax: 1.6265422245300002E7
YMax: 6275275.258900002
Spatial Reference: 102100
(3857)
Units: esriMeters
Supported Image Format Types: PNG32,PNG24,PNG,JPG,DIB,TIFF,EMF,PS,PDF,GIF,SVG,SVGZ,BMP
Document Info:
Title:
Author:
Comments:
Subject:
Category:
Keywords:
AntialiasingMode: None
TextAntialiasingMode: Force
Supports Dynamic Layers: false
MaxRecordCount: 1000
MaxImageHeight: 4096
MaxImageWidth: 4096
Supported Query Formats: JSON, geoJSON, PBF
Supports Query Data Elements: true
Min Scale: 1.8489298E7
Max Scale: 577790.0
Supports Datum Transformation: true
Child Resources:
Info
Supported Operations:
QueryLegends
Return Updates