{ "currentVersion": 11.5, "cimVersion": "3.5.0", "serviceDescription": "

Moderate High Tide Flooding Inundation Extent<\/span><\/p>
<\/p>
This dataset depicts the inundation extent of moderate high tide flooding, which is defined in the NOAA Technical Report NOS CO-OPS 086: Patterns and Projections of High Tide Flooding Along the U.S. Coastline Using a Common Impact Threshold. This threshold provides a national definition of coastal flooding and impacts for quantifying and communicating risk. It may deviate from NOAA National Weather Service (NWS) impact thresholds that take into account local flood risk and are used to issue NWS coastal flood watches, warnings, and advisories.<\/span><\/p>
<\/p>
NOAA Technical Report NOS CO-OPS 086: <\/span><\/span>https://www.tidesandcurrents.noaa.gov/publications/techrpt86_PaP_of_HTFlooding.pdf<\/span><\/span><\/a><\/p>
The data and maps in this tool illustrate the scale of potential flooding, not the exact location, and do not account for erosion, subsidence, or future construction. The data and information provided should be used only as a screening-level tool for management decisions. As with all remotely sensed data, all features should be verified with a site visit. The data and maps in this tool are provided \u201cas is,\u201d without warranty to their performance, merchantable state, or fitness for any particular purpose. The entire risk associated with the results and performance of these data is assumed by the user. This tool should be used strictly as a planning reference tool and not for navigation, permitting, or other legal purposes.<\/span><\/span><\/p>
<\/p>
Tiles have been cached down to Level ID 16 (1:9027).<\/span><\/span><\/p><\/div><\/div><\/div><\/p>", "mapName": "NOS_Moderate", "description": "Moderate High Tide Flooding Inundation ExtentThis dataset depicts the inundation extent of moderate high tide flooding, which is defined in the NOAA Technical Report NOS CO-OPS 086: Patterns and Projections of High Tide Flooding Along the U.S. Coastline Using a Common Impact Threshold. This threshold provides a national definition of coastal flooding and impacts for quantifying and communicating risk. It may deviate from NOAA National Weather Service (NWS) impact thresholds that take into account local flood risk and are used to issue NWS coastal flood watches, warnings, and advisories.NOAA Technical Report NOS CO-OPS 086: https://www.tidesandcurrents.noaa.gov/publications/techrpt86_PaP_of_HTFlooding.pdfThe data and maps in this tool illustrate the scale of potential flooding, not the exact location, and do not account for erosion, subsidence, or future construction. The data and information provided should be used only as a screening-level tool for management decisions. As with all remotely sensed data, all features should be verified with a site visit. The data and maps in this tool are provided \u201cas is,\u201d without warranty to their performance, merchantable state, or fitness for any particular purpose. The entire risk associated with the results and performance of these data is assumed by the user. This tool should be used strictly as a planning reference tool and not for navigation, permitting, or other legal purposes.Tiles have been cached down to Level ID 16 (1:9027).", "copyrightText": "", "supportsDynamicLayers": true, "layers": [ { "id": 0, "name": "Data Extent", "parentLayerId": -1, "defaultVisibility": true, "subLayerIds": null, "minScale": 0, "maxScale": 0, "type": "Feature Layer", "geometryType": "esriGeometryPolygon", "supportsDynamicLegends": true }, { "id": 1, "name": "WA_SEW2_NOS_Mod", "parentLayerId": -1, "defaultVisibility": true, "subLayerIds": null, "minScale": 0, "maxScale": 0, "type": "Raster Layer", "supportsDynamicLegends": true }, { "id": 2, "name": "WA_SEW1_NOS_Mod", "parentLayerId": -1, "defaultVisibility": true, "subLayerIds": null, "minScale": 0, "maxScale": 0, "type": "Raster Layer", "supportsDynamicLegends": true }, { "id": 3, "name": "WA_PugetSoundSW_NOS_Mod", "parentLayerId": -1, "defaultVisibility": true, "subLayerIds": null, "minScale": 0, "maxScale": 0, "type": "Raster Layer", "supportsDynamicLegends": true }, { "id": 4, "name": "WA_PugetSoundNW_NOS_Mod", "parentLayerId": -1, "defaultVisibility": true, "subLayerIds": null, "minScale": 0, "maxScale": 0, "type": "Raster Layer", "supportsDynamicLegends": true }, { "id": 5, "name": "WA_PQR_Mod", "parentLayerId": -1, "defaultVisibility": true, "subLayerIds": null, "minScale": 0, "maxScale": 0, "type": "Raster Layer", "supportsDynamicLegends": true }, { "id": 6, "name": "VA_Southern_NOS_Mod", "parentLayerId": -1, "defaultVisibility": true, "subLayerIds": null, "minScale": 0, "maxScale": 0, "type": "Raster Layer", "supportsDynamicLegends": true }, { "id": 7, "name": "VA_Northern_NOS_Mod", "parentLayerId": -1, "defaultVisibility": true, "subLayerIds": null, "minScale": 0, "maxScale": 0, "type": "Raster Layer", "supportsDynamicLegends": true }, { "id": 8, "name": "VA_Middle_NOS_Mod", "parentLayerId": -1, "defaultVisibility": true, "subLayerIds": null, "minScale": 0, "maxScale": 0, "type": "Raster Layer", "supportsDynamicLegends": true }, { "id": 9, "name": "VA_EasternShore_NOS_Mod", "parentLayerId": -1, "defaultVisibility": true, "subLayerIds": null, "minScale": 0, "maxScale": 0, "type": "Raster Layer", "supportsDynamicLegends": true }, { "id": 10, "name": "USVI_NOS_Mod", "parentLayerId": -1, "defaultVisibility": true, "subLayerIds": null, "minScale": 0, "maxScale": 0, "type": "Raster Layer", "supportsDynamicLegends": true }, { "id": 11, "name": "TX_South2_NOS_Mod", "parentLayerId": -1, "defaultVisibility": true, "subLayerIds": null, "minScale": 0, "maxScale": 0, "type": "Raster Layer", "supportsDynamicLegends": true }, { "id": 12, "name": "TX_South1_NOS_Mod", "parentLayerId": -1, "defaultVisibility": true, "subLayerIds": null, "minScale": 0, "maxScale": 0, "type": "Raster Layer", "supportsDynamicLegends": true }, { "id": 13, "name": "TX_NOrth2_NOS_Mod", "parentLayerId": -1, "defaultVisibility": true, "subLayerIds": null, "minScale": 0, "maxScale": 0, "type": "Raster Layer", "supportsDynamicLegends": true }, { "id": 14, "name": "TX_NOrth1_NOS_Mod", "parentLayerId": -1, "defaultVisibility": true, "subLayerIds": null, "minScale": 0, "maxScale": 0, "type": "Raster Layer", "supportsDynamicLegends": true }, { "id": 15, "name": "TX_Central_NOS_Mod", "parentLayerId": -1, "defaultVisibility": true, "subLayerIds": null, "minScale": 0, "maxScale": 0, "type": "Raster Layer", "supportsDynamicLegends": true }, { "id": 16, "name": "SC_South_NOS_Mod", "parentLayerId": -1, "defaultVisibility": true, "subLayerIds": null, "minScale": 0, "maxScale": 0, "type": "Raster Layer", "supportsDynamicLegends": true }, { "id": 17, "name": "SC_North_NOS_Mod", "parentLayerId": -1, "defaultVisibility": true, "subLayerIds": null, "minScale": 0, "maxScale": 0, "type": "Raster Layer", "supportsDynamicLegends": true }, { "id": 18, "name": "SC_Merge_NOS_Mod", "parentLayerId": -1, "defaultVisibility": true, "subLayerIds": null, "minScale": 0, "maxScale": 0, "type": "Raster Layer", "supportsDynamicLegends": true }, { "id": 19, "name": "RI_Merge_NOS_Mod", "parentLayerId": -1, "defaultVisibility": true, "subLayerIds": null, "minScale": 0, "maxScale": 0, "type": "Raster Layer", "supportsDynamicLegends": true }, { "id": 20, "name": "PR_HTF_Mod", "parentLayerId": -1, "defaultVisibility": true, "subLayerIds": null, "minScale": 0, "maxScale": 0, "type": "Raster Layer", "supportsDynamicLegends": true }, { "id": 21, "name": "PA_Merge_NOS_Mod", "parentLayerId": -1, "defaultVisibility": true, "subLayerIds": null, "minScale": 0, "maxScale": 0, "type": "Raster Layer", "supportsDynamicLegends": true }, { "id": 22, "name": "OR_PQR2_Merge_NOS_Mod", "parentLayerId": -1, "defaultVisibility": true, "subLayerIds": null, "minScale": 0, "maxScale": 0, "type": "Raster Layer", "supportsDynamicLegends": true }, { "id": 23, "name": "OR_PQR1_Merge_NOS_Mod", "parentLayerId": -1, "defaultVisibility": true, "subLayerIds": null, "minScale": 0, "maxScale": 0, "type": "Raster Layer", "supportsDynamicLegends": true }, { "id": 24, "name": "OR_MFR_Merge_NOS_Mod", "parentLayerId": -1, "defaultVisibility": true, "subLayerIds": null, "minScale": 0, "maxScale": 0, "type": "Raster Layer", "supportsDynamicLegends": true }, { "id": 25, "name": "NY_Suffolk_Merge_NOS_Mod", "parentLayerId": -1, "defaultVisibility": true, "subLayerIds": null, "minScale": 0, "maxScale": 0, "type": "Raster Layer", "supportsDynamicLegends": true }, { "id": 26, "name": "NY_Metro_Merge_NOS_Mod", "parentLayerId": -1, "defaultVisibility": true, "subLayerIds": null, "minScale": 0, "maxScale": 0, "type": "Raster Layer", "supportsDynamicLegends": true }, { "id": 27, "name": "NY_Hudson_Merge_NOS_Mod", "parentLayerId": -1, "defaultVisibility": true, "subLayerIds": null, "minScale": 0, "maxScale": 0, "type": "Raster Layer", "supportsDynamicLegends": true }, { "id": 28, "name": "NJ_SOUTHERN_Merge_NOS_Mod", "parentLayerId": -1, "defaultVisibility": true, "subLayerIds": null, "minScale": 0, "maxScale": 0, "type": "Raster Layer", "supportsDynamicLegends": true }, { "id": 29, "name": "NJ_NORTHERN_Merge_NOS_Mod", "parentLayerId": -1, "defaultVisibility": true, "subLayerIds": null, "minScale": 0, "maxScale": 0, "type": "Raster Layer", "supportsDynamicLegends": true }, { "id": 30, "name": "NJ_MIDDLE_Merge_NOS_Mod", "parentLayerId": -1, "defaultVisibility": true, "subLayerIds": null, "minScale": 0, "maxScale": 0, "type": "Raster Layer", "supportsDynamicLegends": true }, { "id": 31, "name": "NH_Merge_NOS_Mod", "parentLayerId": -1, "defaultVisibility": true, "subLayerIds": null, "minScale": 0, "maxScale": 0, "type": "Raster Layer", "supportsDynamicLegends": true }, { "id": 32, "name": "NC_Southern_Merge_NOS_Mod", "parentLayerId": -1, "defaultVisibility": true, "subLayerIds": null, "minScale": 0, "maxScale": 0, "type": "Raster Layer", "supportsDynamicLegends": true }, { "id": 33, "name": "NC_Southern2_Merge_NOS_Mod", "parentLayerId": -1, "defaultVisibility": true, "subLayerIds": null, "minScale": 0, "maxScale": 0, "type": "Raster Layer", "supportsDynamicLegends": true }, { "id": 34, "name": "NC_Northern_GCS_Merge_NOS_Mod", "parentLayerId": -1, "defaultVisibility": true, "subLayerIds": null, "minScale": 0, "maxScale": 0, "type": "Raster Layer", "supportsDynamicLegends": true }, { "id": 35, "name": "NC_Middle_Merge_NOS_Mod", "parentLayerId": -1, "defaultVisibility": true, "subLayerIds": null, "minScale": 0, "maxScale": 0, "type": "Raster Layer", "supportsDynamicLegends": true }, { "id": 36, "name": "NC_Middle2_Merge_NOS_Mod", "parentLayerId": -1, "defaultVisibility": true, "subLayerIds": null, "minScale": 0, "maxScale": 0, "type": "Raster Layer", "supportsDynamicLegends": true }, { "id": 37, "name": "NC_MIddle1_Merge_NOS_Mod", "parentLayerId": -1, "defaultVisibility": true, "subLayerIds": null, "minScale": 0, "maxScale": 0, "type": "Raster Layer", "supportsDynamicLegends": true }, { "id": 38, "name": "MS_GCS_Merge_NOS_Mod", "parentLayerId": -1, "defaultVisibility": true, "subLayerIds": null, "minScale": 0, "maxScale": 0, "type": "Raster Layer", "supportsDynamicLegends": true }, { "id": 39, "name": "ME_West_Mod", "parentLayerId": -1, "defaultVisibility": true, "subLayerIds": null, "minScale": 0, "maxScale": 0, "type": "Raster Layer", "supportsDynamicLegends": true }, { "id": 40, "name": "ME_East_GCS_Merge_NOS_Mod", "parentLayerId": -1, "defaultVisibility": true, "subLayerIds": null, "minScale": 0, "maxScale": 0, "type": "Raster Layer", "supportsDynamicLegends": true }, { "id": 41, "name": "MD_West_GCS_Merge_NOS_Mod", "parentLayerId": -1, "defaultVisibility": true, "subLayerIds": null, "minScale": 0, "maxScale": 0, "type": "Raster Layer", "supportsDynamicLegends": true }, { "id": 42, "name": "MD_Southwest_GCS_Merge_NOS_Mod", "parentLayerId": -1, "defaultVisibility": true, "subLayerIds": null, "minScale": 0, "maxScale": 0, "type": "Raster Layer", "supportsDynamicLegends": true }, { "id": 43, "name": "MD_Southeast_GCS_Merge_NOS_Mod", "parentLayerId": -1, "defaultVisibility": true, "subLayerIds": null, "minScale": 0, "maxScale": 0, "type": "Raster Layer", "supportsDynamicLegends": true }, { "id": 44, "name": "MD_North_GCS_Merge_NOS_Mod", "parentLayerId": -1, "defaultVisibility": true, "subLayerIds": null, "minScale": 0, "maxScale": 0, "type": "Raster Layer", "supportsDynamicLegends": true }, { "id": 45, "name": "MD_East_GCS_Merge_NOS_Mod", "parentLayerId": -1, "defaultVisibility": true, "subLayerIds": null, "minScale": 0, "maxScale": 0, "type": "Raster Layer", "supportsDynamicLegends": true }, { "id": 46, "name": "MA_GCS_Merge_NOS_Mod", "parentLayerId": -1, "defaultVisibility": true, "subLayerIds": null, "minScale": 0, "maxScale": 0, "type": "Raster Layer", "supportsDynamicLegends": true }, { "id": 47, "name": "LA_West_GCS_Merge_NOS_Mod", "parentLayerId": -1, "defaultVisibility": true, "subLayerIds": null, "minScale": 0, "maxScale": 0, "type": "Raster Layer", "supportsDynamicLegends": true }, { "id": 48, "name": "LA_LakePontchartrain_GCS_Merge_NOS_Mod", "parentLayerId": -1, "defaultVisibility": true, "subLayerIds": null, "minScale": 0, "maxScale": 0, "type": "Raster Layer", "supportsDynamicLegends": true }, { "id": 49, "name": "LA_Delta_Mod", "parentLayerId": -1, "defaultVisibility": true, "subLayerIds": null, "minScale": 0, "maxScale": 0, "type": "Raster Layer", "supportsDynamicLegends": true }, { "id": 50, "name": "LA_CentralNorth_Mod", "parentLayerId": -1, "defaultVisibility": true, "subLayerIds": null, "minScale": 0, "maxScale": 0, "type": "Raster Layer", "supportsDynamicLegends": true }, { "id": 51, "name": "LA_CEntralEast_GCS_Merge_NOS_Mod", "parentLayerId": -1, "defaultVisibility": true, "subLayerIds": null, "minScale": 0, "maxScale": 0, "type": "Raster Layer", "supportsDynamicLegends": true }, { "id": 52, "name": "LA_CEntral_GCS_Merge_NOS_Mod", "parentLayerId": -1, "defaultVisibility": true, "subLayerIds": null, "minScale": 0, "maxScale": 0, "type": "Raster Layer", "supportsDynamicLegends": true }, { "id": 53, "name": "HI_HTF_Mod_2023", "parentLayerId": -1, "defaultVisibility": true, "subLayerIds": null, "minScale": 0, "maxScale": 0, "type": "Raster Layer", "supportsDynamicLegends": true }, { "id": 54, "name": "Guam_HTF_Mod_2023", "parentLayerId": -1, "defaultVisibility": true, "subLayerIds": null, "minScale": 0, "maxScale": 0, "type": "Raster Layer", "supportsDynamicLegends": true }, { "id": 55, "name": "GA_South_HTF_Mod_2023", "parentLayerId": -1, "defaultVisibility": true, "subLayerIds": null, "minScale": 0, "maxScale": 0, "type": "Raster Layer", "supportsDynamicLegends": true }, { "id": 56, "name": "GA_North_HTF_Mod_2023", "parentLayerId": -1, "defaultVisibility": true, "subLayerIds": null, "minScale": 0, "maxScale": 0, "type": "Raster Layer", "supportsDynamicLegends": true }, { "id": 57, "name": "FL_West_3_HTF_Mod_2023", "parentLayerId": -1, "defaultVisibility": true, "subLayerIds": null, "minScale": 0, "maxScale": 0, "type": "Raster Layer", "supportsDynamicLegends": true }, { "id": 58, "name": "FL_West_2_HTF_Mod_2023", "parentLayerId": -1, "defaultVisibility": true, "subLayerIds": null, "minScale": 0, "maxScale": 0, "type": "Raster Layer", "supportsDynamicLegends": true }, { "id": 59, "name": "FL_West_1_HTF_Mod_2023", "parentLayerId": -1, "defaultVisibility": true, "subLayerIds": null, "minScale": 0, "maxScale": 0, "type": "Raster Layer", "supportsDynamicLegends": true }, { "id": 60, "name": "FL_SW_HTF_Mod_2023", "parentLayerId": -1, "defaultVisibility": true, "subLayerIds": null, "minScale": 0, "maxScale": 0, "type": "Raster Layer", "supportsDynamicLegends": true }, { "id": 61, "name": "FL_SE_HTF_Mod_2023", "parentLayerId": -1, "defaultVisibility": true, "subLayerIds": null, "minScale": 0, "maxScale": 0, "type": "Raster Layer", "supportsDynamicLegends": true }, { "id": 62, "name": "FL_Pan_West_HTF_Mod_2023", "parentLayerId": -1, "defaultVisibility": true, "subLayerIds": null, "minScale": 0, "maxScale": 0, "type": "Raster Layer", "supportsDynamicLegends": true }, { "id": 63, "name": "FL_Pan_East_HTF_Mod_2023", "parentLayerId": -1, "defaultVisibility": true, "subLayerIds": null, "minScale": 0, "maxScale": 0, "type": "Raster Layer", "supportsDynamicLegends": true }, { "id": 64, "name": "FL_NE_HTF_Mod_2023", "parentLayerId": -1, "defaultVisibility": true, "subLayerIds": null, "minScale": 0, "maxScale": 0, "type": "Raster Layer", "supportsDynamicLegends": true }, { "id": 65, "name": "FL_Keys_HTF_Mod_2023", "parentLayerId": -1, "defaultVisibility": true, "subLayerIds": null, "minScale": 0, "maxScale": 0, "type": "Raster Layer", "supportsDynamicLegends": true }, { "id": 66, "name": "FL_East_2_HTF_Mod_2023", "parentLayerId": -1, "defaultVisibility": true, "subLayerIds": null, "minScale": 0, "maxScale": 0, "type": "Raster Layer", "supportsDynamicLegends": true }, { "id": 67, "name": "FL_East_1_HTF_Mod_2023", "parentLayerId": -1, "defaultVisibility": true, "subLayerIds": null, "minScale": 0, "maxScale": 0, "type": "Raster Layer", "supportsDynamicLegends": true }, { "id": 68, "name": "DE_NOS_Mod", "parentLayerId": -1, "defaultVisibility": true, "subLayerIds": null, "minScale": 0, "maxScale": 0, "type": "Raster Layer", "supportsDynamicLegends": true }, { "id": 69, "name": "DC_NOS_Mod", "parentLayerId": -1, "defaultVisibility": true, "subLayerIds": null, "minScale": 0, "maxScale": 0, "type": "Raster Layer", "supportsDynamicLegends": true }, { "id": 70, "name": "CT_NOS_Mod", "parentLayerId": -1, "defaultVisibility": true, "subLayerIds": null, "minScale": 0, "maxScale": 0, "type": "Raster Layer", "supportsDynamicLegends": true }, { "id": 71, "name": "CNMI_HTF_Mod_2023", "parentLayerId": -1, "defaultVisibility": true, "subLayerIds": null, "minScale": 0, "maxScale": 0, "type": "Raster Layer", "supportsDynamicLegends": true }, { "id": 72, "name": "CA_SGX_Mod", "parentLayerId": -1, "defaultVisibility": true, "subLayerIds": null, "minScale": 0, "maxScale": 0, "type": "Raster Layer", "supportsDynamicLegends": true }, { "id": 73, "name": "CA_MTR3_Mod", "parentLayerId": -1, "defaultVisibility": true, "subLayerIds": null, "minScale": 0, "maxScale": 0, "type": "Raster Layer", "supportsDynamicLegends": true }, { "id": 74, "name": "CA_MTR2_Mod", "parentLayerId": -1, "defaultVisibility": true, "subLayerIds": null, "minScale": 0, "maxScale": 0, "type": "Raster Layer", "supportsDynamicLegends": true }, { "id": 75, "name": "CA_MTR1_Mod", "parentLayerId": -1, "defaultVisibility": true, "subLayerIds": null, "minScale": 0, "maxScale": 0, "type": "Raster Layer", "supportsDynamicLegends": true }, { "id": 76, "name": "CA_LOX2_Mod", "parentLayerId": -1, "defaultVisibility": true, "subLayerIds": null, "minScale": 0, "maxScale": 0, "type": "Raster Layer", "supportsDynamicLegends": true }, { "id": 77, "name": "CA_LOX1_Mod", "parentLayerId": -1, "defaultVisibility": true, "subLayerIds": null, "minScale": 0, "maxScale": 0, "type": "Raster Layer", "supportsDynamicLegends": true }, { "id": 78, "name": "CA_EKA2_Mod", "parentLayerId": -1, "defaultVisibility": true, "subLayerIds": null, "minScale": 0, "maxScale": 0, "type": "Raster Layer", "supportsDynamicLegends": true }, { "id": 79, "name": "CA_EKA1_Mod", "parentLayerId": -1, "defaultVisibility": true, "subLayerIds": null, "minScale": 0, "maxScale": 0, "type": "Raster Layer", "supportsDynamicLegends": true }, { "id": 80, "name": "CA_ChannelIslands_NOS_Mod", "parentLayerId": -1, "defaultVisibility": true, "subLayerIds": null, "minScale": 0, "maxScale": 0, "type": "Raster Layer", "supportsDynamicLegends": true }, { "id": 81, "name": "CA_Catalina_HTF_Mod_2023", "parentLayerId": -1, "defaultVisibility": true, "subLayerIds": null, "minScale": 0, "maxScale": 0, "type": "Raster Layer", "supportsDynamicLegends": true }, { "id": 82, "name": "AS_HTF_Mod_2023", "parentLayerId": -1, "defaultVisibility": true, "subLayerIds": null, "minScale": 0, "maxScale": 0, "type": "Raster Layer", "supportsDynamicLegends": true }, { "id": 83, "name": "AL_HTF_Mod_2022", "parentLayerId": -1, "defaultVisibility": true, "subLayerIds": null, "minScale": 0, "maxScale": 0, "type": "Raster Layer", "supportsDynamicLegends": true } ], "tables": [], "spatialReference": { "wkid": 102100, "latestWkid": 3857, "xyTolerance": 0.001, "zTolerance": 0.001, "mTolerance": 0.001, "falseX": -20037700, "falseY": -30241100, "xyUnits": 10000, "falseZ": -100000, "zUnits": 10000, "falseM": -100000, "mUnits": 10000 }, "singleFusedMapCache": true, "tileInfo": { "rows": 256, "cols": 256, "dpi": 96, "format": "PNG8", "compressionQuality": 0, "origin": { "x": -2.0037508342787E7, "y": 2.0037508342787E7 }, "spatialReference": { "wkid": 102100, "latestWkid": 3857, "xyTolerance": 0.001, "zTolerance": 0.001, "mTolerance": 0.001, "falseX": -20037700, "falseY": -30241100, "xyUnits": 1.4892314192838538E8, "falseZ": -100000, "zUnits": 10000, "falseM": -100000, "mUnits": 10000 }, "lods": [ { "level": 0, "resolution": 156543.033928, "scale": 5.91657527591555E8 }, { "level": 1, "resolution": 78271.5169639999, "scale": 2.95828763795777E8 }, { "level": 2, "resolution": 39135.7584820001, "scale": 1.47914381897889E8 }, { "level": 3, "resolution": 19567.8792409999, "scale": 7.3957190948944E7 }, { "level": 4, "resolution": 9783.93962049996, "scale": 3.6978595474472E7 }, { "level": 5, "resolution": 4891.96981024998, "scale": 1.8489297737236E7 }, { "level": 6, "resolution": 2445.98490512499, "scale": 9244648.868618 }, { "level": 7, "resolution": 1222.99245256249, "scale": 4622324.434309 }, { "level": 8, "resolution": 611.49622628138, "scale": 2311162.217155 }, { "level": 9, "resolution": 305.748113140558, "scale": 1155581.108577 }, { "level": 10, "resolution": 152.874056570411, "scale": 577790.554289 }, { "level": 11, "resolution": 76.4370282850732, "scale": 288895.277144 }, { "level": 12, "resolution": 38.2185141425366, "scale": 144447.638572 }, { "level": 13, "resolution": 19.1092570712683, "scale": 72223.819286 }, { "level": 14, "resolution": 9.55462853563415, "scale": 36111.909643 }, { "level": 15, "resolution": 4.77731426794937, "scale": 18055.954822 }, { "level": 16, "resolution": 2.38865713397468, "scale": 9027.977411 }, { "level": 17, "resolution": 1.19432856685505, "scale": 4513.988705 }, { "level": 18, "resolution": 0.597164283559817, "scale": 2256.994353 }, { "level": 19, "resolution": 0.298582141647617, "scale": 1128.497176 }, { "level": 20, "resolution": 0.14929107082380833, "scale": 564.248588 }, { "level": 21, "resolution": 0.07464553541190416, "scale": 282.124294 }, { "level": 22, "resolution": 0.03732276770595208, "scale": 141.062147 }, { "level": 23, "resolution": 0.01866138385297604, "scale": 70.5310735 } ] }, "storageInfo": { "storageFormat": "esriMapCacheStorageModeCompactV2", "packetSize": 128 }, "initialExtent": { "xmin": -2.0800667695295334E7, "ymin": -5623409.6384404255, "xmax": 1.801531502479533E7, "ymax": 1.458107931504042E7, "spatialReference": { "cs": "pcs", "wkid": 102100 } }, "fullExtent": { "xmin": -2.0800667695295334E7, "ymin": -5623409.6384404255, "xmax": 1.801531502479533E7, "ymax": 1.458107931504042E7, "spatialReference": { "cs": "pcs", "wkid": 102100 } }, "datesInUnknownTimezone": false, "minScale": 5.91657527591555E8, "maxScale": 4513.988705, "units": "esriMeters", "supportedImageFormatTypes": "PNG32,PNG24,PNG,JPG,DIB,TIFF,EMF,PS,PDF,GIF,SVG,SVGZ,BMP", "documentInfo": { "Title": "Moderate High Tide Flooding Inundation Extent", "Author": "", "Comments": "Moderate High Tide Flooding Inundation ExtentThis dataset depicts the inundation extent of moderate high tide flooding, which is defined in the NOAA Technical Report NOS CO-OPS 086: Patterns and Projections of High Tide Flooding Along the U.S. Coastline Using a Common Impact Threshold. This threshold provides a national definition of coastal flooding and impacts for quantifying and communicating risk. It may deviate from NOAA National Weather Service (NWS) impact thresholds that take into account local floo